BEGIN:VCALENDAR
VERSION:2.0
PRODID:-//COPEDU//NONSGML v1.0//EN
BEGIN:VEVENT
DTSTART;VALUE=DATE:20261120
DTEND;VALUE=DATE:20261123
SUMMARY:Clinical Optometry Poland 2026
DESCRIPTION:Termin: 20-22 Listopada 2026
LOCATION:Łódź, Hotel Ambasador Premium
END:VEVENT
END:VCALENDAR